BEGIN:VCALENDAR
VERSION:2.0
PRODID:-//wp-events-plugin.com//6.5//EN
TZID:America/New_York
X-WR-TIMEZONE:America/New_York
BEGIN:VEVENT
UID:65-10110@atlanta.swea.org
DTSTART;TZID=America/New_York:20260426T150000
DTEND;TZID=America/New_York:20260426T180000
DTSTAMP:20260321T211609Z
URL:https://atlanta.swea.org/events/valborgsmassfirande-tillsammans-med-va
 sa-och-svenska-skolan/
SUMMARY:Valborgsmässfirande tillsammans med Vasa och Svenska Skolan
DESCRIPTION:VASA Lodge No. 708\, SWEA Atlanta och Svenska skolan firar Valb
 orgsmäss tillsammans i år och hela familjen är välkommen!\n\n\n\nVi  
 träffas kl. 15:00 i McFarlane Park i Cobb County och firar Valborgsmässo
 afton och vårens ankommande med en traditionell\, fast liten\, vårbrasa!
  (Vi måste följa parkens regler)\n\nVi bjuder på varmkorv\, men för ö
 vrigt så är det knytkalas\, "potluck" som gäller. Så var snäll och ta
  med en maträtt (eller två)  att duka upp på det gemensamma buffeborde
 t\, t.ex en sallad\, grönsaksrätt eller efterätt. Papperstallrikar\, be
 stick\, m.m.\, kommer att finnas\, men ta med din egen dricka.  (Observer
 a att alkohol är inte tillåtet i Mc Farlane Park).\n\nKostnaden är $10 
 per person\, barn under 12 år är gratis.\n\nDirections: The entrance to 
 Farm Road is about 1/3-mile west\, on Paper Mill Road\, of its intersectio
 n with Johnson Ferry Rd SE. **It is labelled “Gateside Place” and is t
 he entrance to a subdivision**. Look for the left turn! If you see “Atla
 nta Country Club Drive” you’ve gone to far.\n\n\n\nFarm Road is a simp
 le gravel driveway. After you drive in\, you will come into a gravel parki
 ng area in front of the large white home. Parking is to your left in the o
 pen field. Please turn left\; there are signs directing you\, and park in 
 an organized way on the grass field. Before you turn\, you'll see the main
  area on your right\, with picnic tables and a shelter\, which is where we
  will be.
LOCATION:McFarlane Nature Park in East Cobb County\, 280 Farm Rd SE\, Marie
 tta\, GA\, 30067\, Förenta staterna
X-APPLE-STRUCTURED-LOCATION;VALUE=URI;X-ADDRESS=280 Farm Rd SE\, Marietta\,
  GA\, 30067\, Förenta staterna;X-APPLE-RADIUS=100;X-TITLE=McFarlane Natur
 e Park in East Cobb County:geo:0,0
END:VEVENT
BEGIN:VTIMEZONE
TZID:America/New_York
X-LIC-LOCATION:America/New_York
BEGIN:DAYLIGHT
DTSTART:20260308T030000
TZOFFSETFROM:-0500
TZOFFSETTO:-0400
TZNAME:EDT
END:DAYLIGHT
END:VTIMEZONE
END:VCALENDAR